BEGIN:VCALENDAR
VERSION:2.0
PRODID:-//Verein zur Förderung von Wissenschaft und Praxis - ECPv6.15.18//NONSGML v1.0//EN
CALSCALE:GREGORIAN
METHOD:PUBLISH
X-WR-CALNAME:Verein zur Förderung von Wissenschaft und Praxis
X-ORIGINAL-URL:https://wissenschaft-praxis-mediation.de
X-WR-CALDESC:Veranstaltungen für Verein zur Förderung von Wissenschaft und Praxis
REFRESH-INTERVAL;VALUE=DURATION:PT1H
X-Robots-Tag:noindex
X-PUBLISHED-TTL:PT1H
BEGIN:VTIMEZONE
TZID:UTC
BEGIN:STANDARD
TZOFFSETFROM:+0000
TZOFFSETTO:+0000
TZNAME:UTC
DTSTART:20240101T000000
END:STANDARD
END:VTIMEZONE
BEGIN:VEVENT
DTSTART;TZID=UTC:20251021T190000
DTEND;TZID=UTC:20251021T190000
DTSTAMP:20260426T014902
CREATED:20251006T172400Z
LAST-MODIFIED:20251006T172408Z
UID:3088-1761073200-1761073200@wissenschaft-praxis-mediation.de
SUMMARY:Vortragsabend
DESCRIPTION:In feierlichem Rahmen findet die Zeugnisübergabe für die Absolvent:innen des 13. Jahrgangs des Masterstudienganges „Mediation und Konfliktmanagement“ im Logensaal der Viadrina statt. Wir vom Alumniverein gratulieren Ihnen schon heute ganz herzlich zu Ihrem bestandenen Abschluss. Wir freuen uns darauf\, diesen besonderen Moment gemeinsam mit Ihnen zu feiern und Sie in unserem Netzwerk willkommen zu heißen!  
URL:https://wissenschaft-praxis-mediation.de/termin/vortragabend/
LOCATION:International Club Berlin\, Thüringer Allee 5-11\, Berlin\, 14052\, Germany
END:VEVENT
END:VCALENDAR