BEGIN:VCALENDAR
VERSION:2.0
PRODID:-//Verein zur Förderung von Wissenschaft und Praxis - ECPv6.15.18//NONSGML v1.0//EN
CALSCALE:GREGORIAN
METHOD:PUBLISH
X-ORIGINAL-URL:https://wissenschaft-praxis-mediation.de
X-WR-CALDESC:Veranstaltungen für Verein zur Förderung von Wissenschaft und Praxis
REFRESH-INTERVAL;VALUE=DURATION:PT1H
X-Robots-Tag:noindex
X-PUBLISHED-TTL:PT1H
BEGIN:VTIMEZONE
TZID:UTC
BEGIN:STANDARD
TZOFFSETFROM:+0000
TZOFFSETTO:+0000
TZNAME:UTC
DTSTART:20240101T000000
END:STANDARD
END:VTIMEZONE
BEGIN:VEVENT
DTSTART;TZID=UTC:20251115T150000
DTEND;TZID=UTC:20251115T170000
DTSTAMP:20260426T002541
CREATED:20251013T173934Z
LAST-MODIFIED:20251013T173934Z
UID:3104-1763218800-1763226000@wissenschaft-praxis-mediation.de
SUMMARY:Mitgliederversammlung in 2026
DESCRIPTION:In feierlichem Rahmen findet die Zeugnisübergabe für die Absolvent:innen des 13. Jahrgangs des Masterstudienganges „Mediation und Konfliktmanagement“ im Logensaal der Viadrina statt. Wir vom Alumniverein gratulieren Ihnen schon heute ganz herzlich zu Ihrem bestandenen Abschluss. Wir freuen uns darauf\, diesen besonderen Moment gemeinsam mit Ihnen zu feiern und Sie in unserem Netzwerk willkommen zu heißen!  
URL:https://wissenschaft-praxis-mediation.de/termin/mitgliederversammlung-in-2026/
LOCATION:Kanzlei Graf von Westphalen\, Potsdamer Platz 8\, Berlin\, 10117\, Germany
END:VEVENT
END:VCALENDAR